BEGIN:VCALENDAR
VERSION:2.0
PRODID:-//YourSite//Property Events//EN
CALSCALE:GREGORIAN
METHOD:PUBLISH
BEGIN:VEVENT
UID:a2183478-f290-489b-b752-734b9350a0a0
DTSTAMP:20260418T220233Z
DTSTART:20260418T100000Z
DTEND:20260418T110000Z
SUMMARY:54 / 107 Stanworth Road\, Boondall - Open Home
DESCRIPTION:Open Home at 54 / 107 Stanworth Road\, Boondall https://wattrealty.com.au/property/r2-4986887/
LOCATION:4034\, aus
END:VEVENT
END:VCALENDAR