BEGIN:VCALENDAR
VERSION:2.0
PRODID:-//YourSite//Property Events//EN
CALSCALE:GREGORIAN
METHOD:PUBLISH
BEGIN:VEVENT
UID:91954877-f27f-4d53-ab21-4cb55171c324
DTSTAMP:20260418T220230Z
DTSTART:20260418T100000Z
DTEND:20260418T110000Z
SUMMARY:190 Flinders Parade\, Sandgate - Open Home
DESCRIPTION:Open Home at 190 Flinders Parade\, Sandgate https://wattrealty.com.au/property/r2-4878691/
LOCATION:4017\, aus
END:VEVENT
END:VCALENDAR