BEGIN:VCALENDAR
VERSION:2.0
PRODID:-//YourSite//Property Events//EN
CALSCALE:GREGORIAN
METHOD:PUBLISH
BEGIN:VEVENT
UID:5a937d3f-c922-4440-acb4-67e83cf50ce9
DTSTAMP:20260418T220235Z
DTSTART:20260418T121500Z
DTEND:20260418T131500Z
SUMMARY:18 Spencer Street\, Aspley - Open Home
DESCRIPTION:Open Home at 18 Spencer Street\, Aspley https://wattrealty.com.au/property/r2-4926952/
LOCATION:4034\, aus
END:VEVENT
END:VCALENDAR