BEGIN:VCALENDAR
VERSION:2.0
PRODID:-//YourSite//Property Events//EN
CALSCALE:GREGORIAN
METHOD:PUBLISH
BEGIN:VEVENT
UID:598e01f1-bf4b-4f30-aefa-2add6bd3d732
DTSTAMP:20260418T220235Z
DTSTART:20260418T090000Z
DTEND:20260418T100000Z
SUMMARY:4 Rangeview Street\, ASPLEY - Open Home
DESCRIPTION:Open Home at 4 Rangeview Street\, ASPLEY https://wattrealty.com.au/property/r2-4802260/
LOCATION:4034\, aus
END:VEVENT
END:VCALENDAR