BEGIN:VCALENDAR
VERSION:2.0
PRODID:-//YourSite//Property Events//EN
CALSCALE:GREGORIAN
METHOD:PUBLISH
BEGIN:VEVENT
UID:16fa1951-5445-43e3-8271-53b7a95fc021
DTSTAMP:20260418T220233Z
DTSTART:20260418T113000Z
DTEND:20260418T123000Z
SUMMARY:11 Quantum Street\, Carseldine - Open Home
DESCRIPTION:Open Home at 11 Quantum Street\, Carseldine https://wattrealty.com.au/property/r2-5013057/
LOCATION:4034\, aus
END:VEVENT
END:VCALENDAR